BEGIN:VCALENDAR
VERSION:2.0
PRODID:-//Vacaciones Escolares España//ES
CALSCALE:GREGORIAN
METHOD:PUBLISH
X-WR-CALNAME:Vacaciones Escolares Andalucía 2025/2026
BEGIN:VEVENT
UID:navidad-2025-andalucia@vacaciones-escolares.es
DTSTAMP:20260421T191921Z
DTSTART;VALUE=DATE:20251222
DTEND;VALUE=DATE:20260107
SUMMARY:Vacaciones de Navidad - Andalucía
DESCRIPTION:Vacaciones de Navidad del curso 2025/2026 en Andalucía. Fuente: vacaciones-escolares.es
LOCATION:Andalucía\, España
STATUS:CONFIRMED
TRANSP:TRANSPARENT
END:VEVENT
BEGIN:VEVENT
UID:semana-santa-2026-andalucia@vacaciones-escolares.es
DTSTAMP:20260421T191921Z
DTSTART;VALUE=DATE:20260330
DTEND;VALUE=DATE:20260406
SUMMARY:Semana Santa - Andalucía
DESCRIPTION:Vacaciones de Semana Santa del curso 2025/2026 en Andalucía. Fuente: vacaciones-escolares.es
LOCATION:Andalucía\, España
STATUS:CONFIRMED
TRANSP:TRANSPARENT
END:VEVENT
BEGIN:VEVENT
UID:festivo-2026-02-28-andalucia@vacaciones-escolares.es
DTSTAMP:20260421T191921Z
DTSTART;VALUE=DATE:20260228
DTEND;VALUE=DATE:20260301
SUMMARY:Día de Andalucía (Andalucía)
LOCATION:Andalucía\, España
STATUS:CONFIRMED
TRANSP:TRANSPARENT
END:VEVENT
END:VCALENDAR
