BEGIN:VCALENDAR
VERSION:2.0
PRODID:-//Vacaciones Escolares España//ES
CALSCALE:GREGORIAN
METHOD:PUBLISH
X-WR-CALNAME:Vacaciones Escolares Aragón 2025/2026
BEGIN:VEVENT
UID:navidad-2025-aragon@vacaciones-escolares.es
DTSTAMP:20260421T191921Z
DTSTART;VALUE=DATE:20251219
DTEND;VALUE=DATE:20260107
SUMMARY:Vacaciones de Navidad - Aragón
DESCRIPTION:Vacaciones de Navidad del curso 2025/2026 en Aragón. Fuente: vacaciones-escolares.es
LOCATION:Aragón\, España
STATUS:CONFIRMED
TRANSP:TRANSPARENT
END:VEVENT
BEGIN:VEVENT
UID:semana-blanca-2026-aragon@vacaciones-escolares.es
DTSTAMP:20260421T191921Z
DTSTART;VALUE=DATE:20260213
DTEND;VALUE=DATE:20260218
SUMMARY:Semana Blanca - Aragón
DESCRIPTION:Semana Blanca del curso 2025/2026 en Aragón. Fuente: vacaciones-escolares.es
LOCATION:Aragón\, España
STATUS:CONFIRMED
TRANSP:TRANSPARENT
END:VEVENT
BEGIN:VEVENT
UID:semana-santa-2026-aragon@vacaciones-escolares.es
DTSTAMP:20260421T191921Z
DTSTART;VALUE=DATE:20260330
DTEND;VALUE=DATE:20260407
SUMMARY:Semana Santa - Aragón
DESCRIPTION:Vacaciones de Semana Santa del curso 2025/2026 en Aragón. Fuente: vacaciones-escolares.es
LOCATION:Aragón\, España
STATUS:CONFIRMED
TRANSP:TRANSPARENT
END:VEVENT
BEGIN:VEVENT
UID:festivo-2026-04-23-aragon@vacaciones-escolares.es
DTSTAMP:20260421T191921Z
DTSTART;VALUE=DATE:20260423
DTEND;VALUE=DATE:20260424
SUMMARY:Día de San Jorge y Aragón (Aragón)
LOCATION:Aragón\, España
STATUS:CONFIRMED
TRANSP:TRANSPARENT
END:VEVENT
END:VCALENDAR
