BEGIN:VCALENDAR
VERSION:2.0
PRODID:-//Vacaciones Escolares España//ES
CALSCALE:GREGORIAN
METHOD:PUBLISH
X-WR-CALNAME:Vacaciones Escolares Illes Balears 2025/2026
BEGIN:VEVENT
UID:navidad-2025-baleares@vacaciones-escolares.es
DTSTAMP:20260421T191921Z
DTSTART;VALUE=DATE:20251222
DTEND;VALUE=DATE:20260107
SUMMARY:Vacaciones de Navidad - Illes Balears
DESCRIPTION:Vacaciones de Navidad del curso 2025/2026 en Illes Balears. Fuente: vacaciones-escolares.es
LOCATION:Illes Balears\, España
STATUS:CONFIRMED
TRANSP:TRANSPARENT
END:VEVENT
BEGIN:VEVENT
UID:semana-santa-2026-baleares@vacaciones-escolares.es
DTSTAMP:20260421T191921Z
DTSTART;VALUE=DATE:20260402
DTEND;VALUE=DATE:20260413
SUMMARY:Semana Santa - Illes Balears
DESCRIPTION:Vacaciones de Semana Santa del curso 2025/2026 en Illes Balears. Fuente: vacaciones-escolares.es
LOCATION:Illes Balears\, España
STATUS:CONFIRMED
TRANSP:TRANSPARENT
END:VEVENT
BEGIN:VEVENT
UID:festivo-2026-03-01-baleares@vacaciones-escolares.es
DTSTAMP:20260421T191921Z
DTSTART;VALUE=DATE:20260301
DTEND;VALUE=DATE:20260302
SUMMARY:Día de les Illes Balears (Illes Balears)
LOCATION:Illes Balears\, España
STATUS:CONFIRMED
TRANSP:TRANSPARENT
END:VEVENT
END:VCALENDAR
