BEGIN:VCALENDAR
VERSION:2.0
PRODID:-//Vacaciones Escolares España//ES
CALSCALE:GREGORIAN
METHOD:PUBLISH
X-WR-CALNAME:Vacaciones Escolares Canarias 2025/2026
BEGIN:VEVENT
UID:navidad-2025-canarias@vacaciones-escolares.es
DTSTAMP:20260421T191921Z
DTSTART;VALUE=DATE:20251222
DTEND;VALUE=DATE:20260108
SUMMARY:Vacaciones de Navidad - Canarias
DESCRIPTION:Vacaciones de Navidad del curso 2025/2026 en Canarias. Fuente: vacaciones-escolares.es
LOCATION:Canarias\, España
STATUS:CONFIRMED
TRANSP:TRANSPARENT
END:VEVENT
BEGIN:VEVENT
UID:semana-santa-2026-canarias@vacaciones-escolares.es
DTSTAMP:20260421T191921Z
DTSTART;VALUE=DATE:20260328
DTEND;VALUE=DATE:20260406
SUMMARY:Semana Santa - Canarias
DESCRIPTION:Vacaciones de Semana Santa del curso 2025/2026 en Canarias. Fuente: vacaciones-escolares.es
LOCATION:Canarias\, España
STATUS:CONFIRMED
TRANSP:TRANSPARENT
END:VEVENT
BEGIN:VEVENT
UID:festivo-2026-05-30-canarias@vacaciones-escolares.es
DTSTAMP:20260421T191921Z
DTSTART;VALUE=DATE:20260530
DTEND;VALUE=DATE:20260531
SUMMARY:Día de Canarias (Canarias)
LOCATION:Canarias\, España
STATUS:CONFIRMED
TRANSP:TRANSPARENT
END:VEVENT
END:VCALENDAR
