BEGIN:VCALENDAR
VERSION:2.0
PRODID:-//Vacaciones Escolares España//ES
CALSCALE:GREGORIAN
METHOD:PUBLISH
X-WR-CALNAME:Vacaciones Escolares Cantabria 2025/2026
BEGIN:VEVENT
UID:navidad-2025-cantabria@vacaciones-escolares.es
DTSTAMP:20260421T191921Z
DTSTART;VALUE=DATE:20251224
DTEND;VALUE=DATE:20260108
SUMMARY:Vacaciones de Navidad - Cantabria
DESCRIPTION:Vacaciones de Navidad del curso 2025/2026 en Cantabria. Fuente: vacaciones-escolares.es
LOCATION:Cantabria\, España
STATUS:CONFIRMED
TRANSP:TRANSPARENT
END:VEVENT
BEGIN:VEVENT
UID:semana-blanca-2026-cantabria@vacaciones-escolares.es
DTSTAMP:20260421T191921Z
DTSTART;VALUE=DATE:20260216
DTEND;VALUE=DATE:20260221
SUMMARY:Semana Blanca - Cantabria
DESCRIPTION:Semana Blanca del curso 2025/2026 en Cantabria. Fuente: vacaciones-escolares.es
LOCATION:Cantabria\, España
STATUS:CONFIRMED
TRANSP:TRANSPARENT
END:VEVENT
BEGIN:VEVENT
UID:semana-santa-2026-cantabria@vacaciones-escolares.es
DTSTAMP:20260421T191921Z
DTSTART;VALUE=DATE:20260328
DTEND;VALUE=DATE:20260406
SUMMARY:Semana Santa - Cantabria
DESCRIPTION:Vacaciones de Semana Santa del curso 2025/2026 en Cantabria. Fuente: vacaciones-escolares.es
LOCATION:Cantabria\, España
STATUS:CONFIRMED
TRANSP:TRANSPARENT
END:VEVENT
END:VCALENDAR
