BEGIN:VCALENDAR
VERSION:2.0
PRODID:-//Vacaciones Escolares España//ES
CALSCALE:GREGORIAN
METHOD:PUBLISH
X-WR-CALNAME:Vacaciones Escolares Castilla-La Mancha 2025/2026
BEGIN:VEVENT
UID:navidad-2025-castilla-la-mancha@vacaciones-escolares.es
DTSTAMP:20260421T191921Z
DTSTART;VALUE=DATE:20251222
DTEND;VALUE=DATE:20260107
SUMMARY:Vacaciones de Navidad - Castilla-La Mancha
DESCRIPTION:Vacaciones de Navidad del curso 2025/2026 en Castilla-La Mancha. Fuente: vacaciones-escolares.es
LOCATION:Castilla-La Mancha\, España
STATUS:CONFIRMED
TRANSP:TRANSPARENT
END:VEVENT
BEGIN:VEVENT
UID:semana-santa-2026-castilla-la-mancha@vacaciones-escolares.es
DTSTAMP:20260421T191921Z
DTSTART;VALUE=DATE:20260330
DTEND;VALUE=DATE:20260407
SUMMARY:Semana Santa - Castilla-La Mancha
DESCRIPTION:Vacaciones de Semana Santa del curso 2025/2026 en Castilla-La Mancha. Fuente: vacaciones-escolares.es
LOCATION:Castilla-La Mancha\, España
STATUS:CONFIRMED
TRANSP:TRANSPARENT
END:VEVENT
BEGIN:VEVENT
UID:festivo-2026-05-31-castilla-la-mancha@vacaciones-escolares.es
DTSTAMP:20260421T191921Z
DTSTART;VALUE=DATE:20260531
DTEND;VALUE=DATE:20260601
SUMMARY:Día de Castilla-La Mancha (Castilla-La Mancha)
LOCATION:Castilla-La Mancha\, España
STATUS:CONFIRMED
TRANSP:TRANSPARENT
END:VEVENT
END:VCALENDAR
