BEGIN:VCALENDAR
VERSION:2.0
PRODID:-//Vacaciones Escolares España//ES
CALSCALE:GREGORIAN
METHOD:PUBLISH
X-WR-CALNAME:Vacaciones Escolares Castilla y León 2025/2026
BEGIN:VEVENT
UID:navidad-2025-castilla-y-leon@vacaciones-escolares.es
DTSTAMP:20260421T191921Z
DTSTART;VALUE=DATE:20251220
DTEND;VALUE=DATE:20260108
SUMMARY:Vacaciones de Navidad - Castilla y León
DESCRIPTION:Vacaciones de Navidad del curso 2025/2026 en Castilla y León. Fuente: vacaciones-escolares.es
LOCATION:Castilla y León\, España
STATUS:CONFIRMED
TRANSP:TRANSPARENT
END:VEVENT
BEGIN:VEVENT
UID:semana-santa-2026-castilla-y-leon@vacaciones-escolares.es
DTSTAMP:20260421T191921Z
DTSTART;VALUE=DATE:20260327
DTEND;VALUE=DATE:20260407
SUMMARY:Semana Santa - Castilla y León
DESCRIPTION:Vacaciones de Semana Santa del curso 2025/2026 en Castilla y León. Fuente: vacaciones-escolares.es
LOCATION:Castilla y León\, España
STATUS:CONFIRMED
TRANSP:TRANSPARENT
END:VEVENT
BEGIN:VEVENT
UID:festivo-2026-04-23-castilla-y-leon@vacaciones-escolares.es
DTSTAMP:20260421T191921Z
DTSTART;VALUE=DATE:20260423
DTEND;VALUE=DATE:20260424
SUMMARY:Día de Castilla y León (Castilla y León)
LOCATION:Castilla y León\, España
STATUS:CONFIRMED
TRANSP:TRANSPARENT
END:VEVENT
END:VCALENDAR
