BEGIN:VCALENDAR
VERSION:2.0
PRODID:-//Vacaciones Escolares España//ES
CALSCALE:GREGORIAN
METHOD:PUBLISH
X-WR-CALNAME:Vacaciones Escolares Ceuta 2025/2026
BEGIN:VEVENT
UID:navidad-2025-ceuta@vacaciones-escolares.es
DTSTAMP:20260421T191921Z
DTSTART;VALUE=DATE:20251220
DTEND;VALUE=DATE:20260108
SUMMARY:Vacaciones de Navidad - Ceuta
DESCRIPTION:Vacaciones de Navidad del curso 2025/2026 en Ceuta. Fuente: vacaciones-escolares.es
LOCATION:Ceuta\, España
STATUS:CONFIRMED
TRANSP:TRANSPARENT
END:VEVENT
BEGIN:VEVENT
UID:semana-blanca-2026-ceuta@vacaciones-escolares.es
DTSTAMP:20260421T191921Z
DTSTART;VALUE=DATE:20260320
DTEND;VALUE=DATE:20260328
SUMMARY:Semana Blanca - Ceuta
DESCRIPTION:Semana Blanca del curso 2025/2026 en Ceuta. Fuente: vacaciones-escolares.es
LOCATION:Ceuta\, España
STATUS:CONFIRMED
TRANSP:TRANSPARENT
END:VEVENT
BEGIN:VEVENT
UID:semana-santa-2026-ceuta@vacaciones-escolares.es
DTSTAMP:20260421T191921Z
DTSTART;VALUE=DATE:20260330
DTEND;VALUE=DATE:20260406
SUMMARY:Semana Santa - Ceuta
DESCRIPTION:Vacaciones de Semana Santa del curso 2025/2026 en Ceuta. Fuente: vacaciones-escolares.es
LOCATION:Ceuta\, España
STATUS:CONFIRMED
TRANSP:TRANSPARENT
END:VEVENT
BEGIN:VEVENT
UID:festivo-2025-09-02-ceuta@vacaciones-escolares.es
DTSTAMP:20260421T191921Z
DTSTART;VALUE=DATE:20250902
DTEND;VALUE=DATE:20250903
SUMMARY:Día de Ceuta (Ceuta)
LOCATION:Ceuta\, España
STATUS:CONFIRMED
TRANSP:TRANSPARENT
END:VEVENT
END:VCALENDAR
