BEGIN:VCALENDAR
VERSION:2.0
PRODID:-//Vacaciones Escolares España//ES
CALSCALE:GREGORIAN
METHOD:PUBLISH
X-WR-CALNAME:Vacaciones Escolares Extremadura 2025/2026
BEGIN:VEVENT
UID:navidad-2025-extremadura@vacaciones-escolares.es
DTSTAMP:20260421T191921Z
DTSTART;VALUE=DATE:20251222
DTEND;VALUE=DATE:20260108
SUMMARY:Vacaciones de Navidad - Extremadura
DESCRIPTION:Vacaciones de Navidad del curso 2025/2026 en Extremadura. Fuente: vacaciones-escolares.es
LOCATION:Extremadura\, España
STATUS:CONFIRMED
TRANSP:TRANSPARENT
END:VEVENT
BEGIN:VEVENT
UID:semana-santa-2026-extremadura@vacaciones-escolares.es
DTSTAMP:20260421T191921Z
DTSTART;VALUE=DATE:20260330
DTEND;VALUE=DATE:20260407
SUMMARY:Semana Santa - Extremadura
DESCRIPTION:Vacaciones de Semana Santa del curso 2025/2026 en Extremadura. Fuente: vacaciones-escolares.es
LOCATION:Extremadura\, España
STATUS:CONFIRMED
TRANSP:TRANSPARENT
END:VEVENT
BEGIN:VEVENT
UID:festivo-2025-09-08-extremadura@vacaciones-escolares.es
DTSTAMP:20260421T191921Z
DTSTART;VALUE=DATE:20250908
DTEND;VALUE=DATE:20250909
SUMMARY:Día de Extremadura (Extremadura)
LOCATION:Extremadura\, España
STATUS:CONFIRMED
TRANSP:TRANSPARENT
END:VEVENT
END:VCALENDAR
