BEGIN:VCALENDAR
VERSION:2.0
PRODID:-//Vacaciones Escolares España//ES
CALSCALE:GREGORIAN
METHOD:PUBLISH
X-WR-CALNAME:Vacaciones Escolares Galicia 2025/2026
BEGIN:VEVENT
UID:navidad-2025-galicia@vacaciones-escolares.es
DTSTAMP:20260421T191921Z
DTSTART;VALUE=DATE:20251220
DTEND;VALUE=DATE:20260108
SUMMARY:Vacaciones de Navidad - Galicia
DESCRIPTION:Vacaciones de Navidad del curso 2025/2026 en Galicia. Fuente: vacaciones-escolares.es
LOCATION:Galicia\, España
STATUS:CONFIRMED
TRANSP:TRANSPARENT
END:VEVENT
BEGIN:VEVENT
UID:semana-blanca-2026-galicia@vacaciones-escolares.es
DTSTAMP:20260421T191921Z
DTSTART;VALUE=DATE:20260216
DTEND;VALUE=DATE:20260219
SUMMARY:Semana Blanca - Galicia
DESCRIPTION:Semana Blanca del curso 2025/2026 en Galicia. Fuente: vacaciones-escolares.es
LOCATION:Galicia\, España
STATUS:CONFIRMED
TRANSP:TRANSPARENT
END:VEVENT
BEGIN:VEVENT
UID:semana-santa-2026-galicia@vacaciones-escolares.es
DTSTAMP:20260421T191921Z
DTSTART;VALUE=DATE:20260330
DTEND;VALUE=DATE:20260407
SUMMARY:Semana Santa - Galicia
DESCRIPTION:Vacaciones de Semana Santa del curso 2025/2026 en Galicia. Fuente: vacaciones-escolares.es
LOCATION:Galicia\, España
STATUS:CONFIRMED
TRANSP:TRANSPARENT
END:VEVENT
BEGIN:VEVENT
UID:festivo-2026-05-17-galicia@vacaciones-escolares.es
DTSTAMP:20260421T191921Z
DTSTART;VALUE=DATE:20260517
DTEND;VALUE=DATE:20260518
SUMMARY:Día de las Letras Gallegas (Galicia)
LOCATION:Galicia\, España
STATUS:CONFIRMED
TRANSP:TRANSPARENT
END:VEVENT
END:VCALENDAR
