BEGIN:VCALENDAR
VERSION:2.0
PRODID:-//Vacaciones Escolares España//ES
CALSCALE:GREGORIAN
METHOD:PUBLISH
X-WR-CALNAME:Vacaciones Escolares La Rioja 2025/2026
BEGIN:VEVENT
UID:navidad-2025-la-rioja@vacaciones-escolares.es
DTSTAMP:20260421T191921Z
DTSTART;VALUE=DATE:20251223
DTEND;VALUE=DATE:20260108
SUMMARY:Vacaciones de Navidad - La Rioja
DESCRIPTION:Vacaciones de Navidad del curso 2025/2026 en La Rioja. Fuente: vacaciones-escolares.es
LOCATION:La Rioja\, España
STATUS:CONFIRMED
TRANSP:TRANSPARENT
END:VEVENT
BEGIN:VEVENT
UID:semana-santa-2026-la-rioja@vacaciones-escolares.es
DTSTAMP:20260421T191921Z
DTSTART;VALUE=DATE:20260328
DTEND;VALUE=DATE:20260407
SUMMARY:Semana Santa - La Rioja
DESCRIPTION:Vacaciones de Semana Santa del curso 2025/2026 en La Rioja. Fuente: vacaciones-escolares.es
LOCATION:La Rioja\, España
STATUS:CONFIRMED
TRANSP:TRANSPARENT
END:VEVENT
BEGIN:VEVENT
UID:festivo-2026-06-09-la-rioja@vacaciones-escolares.es
DTSTAMP:20260421T191921Z
DTSTART;VALUE=DATE:20260609
DTEND;VALUE=DATE:20260610
SUMMARY:Día de La Rioja (La Rioja)
LOCATION:La Rioja\, España
STATUS:CONFIRMED
TRANSP:TRANSPARENT
END:VEVENT
END:VCALENDAR
