BEGIN:VCALENDAR
VERSION:2.0
PRODID:-//Vacaciones Escolares España//ES
CALSCALE:GREGORIAN
METHOD:PUBLISH
X-WR-CALNAME:Vacaciones Escolares Madrid 2025/2026
BEGIN:VEVENT
UID:navidad-2025-madrid@vacaciones-escolares.es
DTSTAMP:20260421T191921Z
DTSTART;VALUE=DATE:20251220
DTEND;VALUE=DATE:20260108
SUMMARY:Vacaciones de Navidad - Madrid
DESCRIPTION:Vacaciones de Navidad del curso 2025/2026 en Madrid. Fuente: vacaciones-escolares.es
LOCATION:Madrid\, España
STATUS:CONFIRMED
TRANSP:TRANSPARENT
END:VEVENT
BEGIN:VEVENT
UID:semana-santa-2026-madrid@vacaciones-escolares.es
DTSTAMP:20260421T191921Z
DTSTART;VALUE=DATE:20260327
DTEND;VALUE=DATE:20260407
SUMMARY:Semana Santa - Madrid
DESCRIPTION:Vacaciones de Semana Santa del curso 2025/2026 en Madrid. Fuente: vacaciones-escolares.es
LOCATION:Madrid\, España
STATUS:CONFIRMED
TRANSP:TRANSPARENT
END:VEVENT
BEGIN:VEVENT
UID:festivo-2026-05-02-madrid@vacaciones-escolares.es
DTSTAMP:20260421T191921Z
DTSTART;VALUE=DATE:20260502
DTEND;VALUE=DATE:20260503
SUMMARY:Fiesta de la Comunidad de Madrid (Madrid)
LOCATION:Madrid\, España
STATUS:CONFIRMED
TRANSP:TRANSPARENT
END:VEVENT
BEGIN:VEVENT
UID:festivo-2026-05-15-madrid@vacaciones-escolares.es
DTSTAMP:20260421T191921Z
DTSTART;VALUE=DATE:20260515
DTEND;VALUE=DATE:20260516
SUMMARY:San Isidro (Madrid)
LOCATION:Madrid\, España
STATUS:CONFIRMED
TRANSP:TRANSPARENT
END:VEVENT
END:VCALENDAR
