BEGIN:VCALENDAR
VERSION:2.0
PRODID:-//Vacaciones Escolares España//ES
CALSCALE:GREGORIAN
METHOD:PUBLISH
X-WR-CALNAME:Vacaciones Escolares Murcia 2025/2026
BEGIN:VEVENT
UID:navidad-2025-murcia@vacaciones-escolares.es
DTSTAMP:20260421T191921Z
DTSTART;VALUE=DATE:20251224
DTEND;VALUE=DATE:20260107
SUMMARY:Vacaciones de Navidad - Murcia
DESCRIPTION:Vacaciones de Navidad del curso 2025/2026 en Murcia. Fuente: vacaciones-escolares.es
LOCATION:Murcia\, España
STATUS:CONFIRMED
TRANSP:TRANSPARENT
END:VEVENT
BEGIN:VEVENT
UID:semana-blanca-2026-murcia@vacaciones-escolares.es
DTSTAMP:20260421T191921Z
DTSTART;VALUE=DATE:20260213
DTEND;VALUE=DATE:20260218
SUMMARY:Semana Blanca - Murcia
DESCRIPTION:Semana Blanca del curso 2025/2026 en Murcia. Fuente: vacaciones-escolares.es
LOCATION:Murcia\, España
STATUS:CONFIRMED
TRANSP:TRANSPARENT
END:VEVENT
BEGIN:VEVENT
UID:semana-santa-2026-murcia@vacaciones-escolares.es
DTSTAMP:20260421T191921Z
DTSTART;VALUE=DATE:20260330
DTEND;VALUE=DATE:20260407
SUMMARY:Semana Santa - Murcia
DESCRIPTION:Vacaciones de Semana Santa del curso 2025/2026 en Murcia. Fuente: vacaciones-escolares.es
LOCATION:Murcia\, España
STATUS:CONFIRMED
TRANSP:TRANSPARENT
END:VEVENT
BEGIN:VEVENT
UID:festivo-2026-06-09-murcia@vacaciones-escolares.es
DTSTAMP:20260421T191921Z
DTSTART;VALUE=DATE:20260609
DTEND;VALUE=DATE:20260610
SUMMARY:Día de la Región de Murcia (Murcia)
LOCATION:Murcia\, España
STATUS:CONFIRMED
TRANSP:TRANSPARENT
END:VEVENT
END:VCALENDAR
