BEGIN:VCALENDAR
VERSION:2.0
PRODID:-//Vacaciones Escolares España//ES
CALSCALE:GREGORIAN
METHOD:PUBLISH
X-WR-CALNAME:Vacaciones Escolares Navarra 2025/2026
BEGIN:VEVENT
UID:navidad-2025-navarra@vacaciones-escolares.es
DTSTAMP:20260421T191921Z
DTSTART;VALUE=DATE:20251220
DTEND;VALUE=DATE:20260108
SUMMARY:Vacaciones de Navidad - Navarra
DESCRIPTION:Vacaciones de Navidad del curso 2025/2026 en Navarra. Fuente: vacaciones-escolares.es
LOCATION:Navarra\, España
STATUS:CONFIRMED
TRANSP:TRANSPARENT
END:VEVENT
BEGIN:VEVENT
UID:semana-santa-2026-navarra@vacaciones-escolares.es
DTSTAMP:20260421T191921Z
DTSTART;VALUE=DATE:20260402
DTEND;VALUE=DATE:20260413
SUMMARY:Semana Santa - Navarra
DESCRIPTION:Vacaciones de Semana Santa del curso 2025/2026 en Navarra. Fuente: vacaciones-escolares.es
LOCATION:Navarra\, España
STATUS:CONFIRMED
TRANSP:TRANSPARENT
END:VEVENT
BEGIN:VEVENT
UID:festivo-2025-12-03-navarra@vacaciones-escolares.es
DTSTAMP:20260421T191921Z
DTSTART;VALUE=DATE:20251203
DTEND;VALUE=DATE:20251204
SUMMARY:Día de Navarra (Navarra)
LOCATION:Navarra\, España
STATUS:CONFIRMED
TRANSP:TRANSPARENT
END:VEVENT
END:VCALENDAR
