BEGIN:VCALENDAR
VERSION:2.0
PRODID:-//Vacaciones Escolares España//ES
CALSCALE:GREGORIAN
METHOD:PUBLISH
X-WR-CALNAME:Vacaciones Escolares País Vasco 2025/2026
BEGIN:VEVENT
UID:navidad-2025-pais-vasco@vacaciones-escolares.es
DTSTAMP:20260421T191921Z
DTSTART;VALUE=DATE:20251224
DTEND;VALUE=DATE:20260107
SUMMARY:Vacaciones de Navidad - País Vasco
DESCRIPTION:Vacaciones de Navidad del curso 2025/2026 en País Vasco. Fuente: vacaciones-escolares.es
LOCATION:País Vasco\, España
STATUS:CONFIRMED
TRANSP:TRANSPARENT
END:VEVENT
BEGIN:VEVENT
UID:semana-blanca-2026-pais-vasco@vacaciones-escolares.es
DTSTAMP:20260421T191921Z
DTSTART;VALUE=DATE:20260213
DTEND;VALUE=DATE:20260218
SUMMARY:Semana Blanca - País Vasco
DESCRIPTION:Semana Blanca del curso 2025/2026 en País Vasco. Fuente: vacaciones-escolares.es
LOCATION:País Vasco\, España
STATUS:CONFIRMED
TRANSP:TRANSPARENT
END:VEVENT
BEGIN:VEVENT
UID:semana-santa-2026-pais-vasco@vacaciones-escolares.es
DTSTAMP:20260421T191921Z
DTSTART;VALUE=DATE:20260402
DTEND;VALUE=DATE:20260407
SUMMARY:Semana Santa - País Vasco
DESCRIPTION:Vacaciones de Semana Santa del curso 2025/2026 en País Vasco. Fuente: vacaciones-escolares.es
LOCATION:País Vasco\, España
STATUS:CONFIRMED
TRANSP:TRANSPARENT
END:VEVENT
BEGIN:VEVENT
UID:festivo-2025-10-25-pais-vasco@vacaciones-escolares.es
DTSTAMP:20260421T191921Z
DTSTART;VALUE=DATE:20251025
DTEND;VALUE=DATE:20251026
SUMMARY:Día del País Vasco (Aberri Eguna) (País Vasco)
LOCATION:País Vasco\, España
STATUS:CONFIRMED
TRANSP:TRANSPARENT
END:VEVENT
END:VCALENDAR
